BEGIN:VCALENDAR
VERSION:2.0
PRODID:-//wp-events-plugin.com//7.0.5//EN
TZID:Europe/Vienna
X-WR-TIMEZONE:Europe/Vienna
BEGIN:VEVENT
UID:50@pfarre-gratkorn.at
DTSTART;TZID=Europe/Vienna:20130217T100000
DTEND;TZID=Europe/Vienna:20130217T110000
DTSTAMP:20130211T205219Z
URL:https://pfarre-gratkorn.at/termine/veranstaltungen/autofasten-sonntag/
SUMMARY:Autofasten Sonntag
DESCRIPTION:Auftakt zum Autofasten\nAm Sonntag den 17.2.2013 sind die Kirch
 enbesucher im Pfarrverband Gratkorn/Semriach aufgerufen (möglichst) ohne 
 das Auto zu benutzen den Gottesdienst zu besuchen: Gehen\, Fahrrad\, Reite
 n ... oder wenn es gar nicht anders geht als mit Auto: Fahrgemeinschaft\, 
 oder jemanden Gehbehinderten bewusst mitnehmen.\n\nIn Gratkorn ist der Got
 tesdienst um 10 Uhr\, in Semriach schon um 8:30 Uhr jeweils mit P. August 
 Janisch\n\nDie Veranstaltung ist gleichzeitig Auftakt für die Aktion Auto
 fasten für die ganze Fastenzeit und nochmaliger Aufruf zum Mitmachen.\nHe
 ilsam in Bewgung kommen\nGerade am Sonntag auf dem Weg zum Gottesdienst si
 ch bewusst in Gottes Schöpfung bewegen\, Zeit haben\, sich umsehen\, sich
  umhören\, Gerüche wahrnehmen\, sich selbst spüren\, bewusst Schritte s
 etzen\, gemeinsam gehen\, im Gespräch gehen\, miteinander gehen oder mit 
 dem Rad geräuschlos dahingleiten.\n\nUnd wenn es zu weit und wirklich zu 
 beschwerlich ist: Gemeinschaften bilden\, jemand der gehbindert ist und ni
 cht kommen könnte mitnehmen\n\nMichael Schingshakel über "In die Kirche 
 gehen"
CATEGORIES:Gottesdienst
LOCATION:Pfarre Gratkorn - Kirche\, Kirchplatz 1\, Gratkorn\, 8101\, Öster
 reich
GEO:47.1348105;15.349958499999957
X-APPLE-STRUCTURED-LOCATION;VALUE=URI;X-ADDRESS=Kirchplatz 1\, Gratkorn\, 8
 101\, Österreich;X-APPLE-RADIUS=100;X-TITLE=Pfarre Gratkorn - Kirche:geo:
 47.1348105,15.349958499999957
END:VEVENT
BEGIN:VTIMEZONE
TZID:Europe/Vienna
X-LIC-LOCATION:Europe/Vienna
BEGIN:STANDARD
DTSTART:20121028T020000
TZOFFSETFROM:+0200
TZOFFSETTO:+0100
TZNAME:CET
END:STANDARD
END:VTIMEZONE
END:VCALENDAR