BEGIN:VCALENDAR
VERSION:2.0
PRODID:-//wp-events-plugin.com//7.0.5//EN
TZID:Europe/Vienna
X-WR-TIMEZONE:Europe/Vienna
BEGIN:VEVENT
UID:419@pfarre-gratkorn.at
DTSTART;TZID=Europe/Vienna:20211204T060000
DTEND;TZID=Europe/Vienna:20211204T060000
DTSTAMP:20210930T081154Z
URL:https://pfarre-gratkorn.at/termine/veranstaltungen/kerzenscheinrorate/
SUMMARY:Kerzenscheinrorate
DESCRIPTION:Feierliche Frühmesse und anschließend gemeinsames Frühstück
 \nDieser Gottesdienst ist etwas Besonderes\, einerseits weil er zu einer u
 ngewöhnlichen Zeit stattfindet\, andererseits\, weil auf künstliche Bele
 uchtung (fast) gänzlich verzichtet wird. Zusätzlich ist die Messe musika
 lisch besonders gestaltet.\n\nNach der gemeinsamen Messfeier sind Sie herz
 lich zum Frühstück in den Pfarrsaal eingeladen!
CATEGORIES:Gottesdienst
LOCATION:Pfarre Gratkorn - Kirche\, Kirchplatz 1\, Gratkorn\, 8101\, Öster
 reich
GEO:47.1348105;15.349958499999957
X-APPLE-STRUCTURED-LOCATION;VALUE=URI;X-ADDRESS=Kirchplatz 1\, Gratkorn\, 8
 101\, Österreich;X-APPLE-RADIUS=100;X-TITLE=Pfarre Gratkorn - Kirche:geo:
 47.1348105,15.349958499999957
END:VEVENT
BEGIN:VTIMEZONE
TZID:Europe/Vienna
X-LIC-LOCATION:Europe/Vienna
BEGIN:STANDARD
DTSTART:20211031T020000
TZOFFSETFROM:+0200
TZOFFSETTO:+0100
TZNAME:CET
END:STANDARD
END:VTIMEZONE
END:VCALENDAR