BEGIN:VCALENDAR
VERSION:2.0
PRODID:-//wp-events-plugin.com//7.0.5//EN
TZID:Europe/Vienna
X-WR-TIMEZONE:Europe/Vienna
BEGIN:VEVENT
UID:85@pfarre-gratkorn.at
DTSTART;TZID=Europe/Vienna:20180501T190000
DTEND;TZID=Europe/Vienna:20180501T190000
DTSTAMP:20180503T104220Z
URL:https://pfarre-gratkorn.at/termine/veranstaltungen/maiandacht-in-fries
 ach/
SUMMARY:Maiandacht Matthesbauer-Kapelle
DESCRIPTION:Herzliche Einladung zur Maiandacht in Friesach!\n\nIm Mai\, der
  auch „Marienmonat“ genannt wird\, finden bei Kapellen\, Wegkreuzen o
 der Bildstöcken spezielle Andachten statt\, bei denen um Beistand und Sc
 hutz der Gottesmutter Maria gebeten wird.\n\nAuf Ihr Kommen freut sich das
  Vorbereitungsteam!
CATEGORIES:Andacht
LOCATION:Matthesbauer-Kapelle\, Friesachstraße 27\, Friesach\, 8101\, Öst
 erreich
GEO:47.1714184;15.335639899999933
X-APPLE-STRUCTURED-LOCATION;VALUE=URI;X-ADDRESS=Friesachstraße 27\, Friesa
 ch\, 8101\, Österreich;X-APPLE-RADIUS=100;X-TITLE=Matthesbauer-Kapelle:ge
 o:47.1714184,15.335639899999933
END:VEVENT
BEGIN:VTIMEZONE
TZID:Europe/Vienna
X-LIC-LOCATION:Europe/Vienna
BEGIN:DAYLIGHT
DTSTART:20180325T030000
TZOFFSETFROM:+0100
TZOFFSETTO:+0200
TZNAME:CEST
END:DAYLIGHT
END:VTIMEZONE
END:VCALENDAR