BEGIN:VCALENDAR
VERSION:2.0
PRODID:-//wp-events-plugin.com//7.0.5//EN
TZID:Europe/Vienna
X-WR-TIMEZONE:Europe/Vienna
BEGIN:VEVENT
UID:456@pfarre-gratkorn.at
DTSTART;TZID=Europe/Vienna:20180610T100000
DTEND;TZID=Europe/Vienna:20180610T100000
DTSTAMP:20180419T092627Z
URL:https://pfarre-gratkorn.at/termine/veranstaltungen/ostkirchliche-litur
 gie/
SUMMARY:Ostkirchliche Liturgie
DESCRIPTION:Herzliche Einladung zu einer besonderen Messfeier mit dem Chrys
 ostomos-Chor!\nAn diesem Sonntag feiern wir in Gratkorn in einer besondere
 n Form Gottesdienst.\n\nMartin Schmiedbauer wird einer ostkirchlichen Litu
 rgiefeier vorstehen\, das ist eine Messe angelehnt an die orthodoxe Tradit
 ion mit sehr viel Gesang und zahlreichen\nausdrucksstarken liturgischen El
 ementen.\n\nLassen Sie sich diese seltene Gelegenheit nicht entgehen und f
 eiern Sie mit!
CATEGORIES:Festgottesdienst,Gottesdienst
LOCATION:Pfarre Gratkorn - Kirche\, Kirchplatz 1\, Gratkorn\, 8101\, Öster
 reich
GEO:47.1348105;15.349958499999957
X-APPLE-STRUCTURED-LOCATION;VALUE=URI;X-ADDRESS=Kirchplatz 1\, Gratkorn\, 8
 101\, Österreich;X-APPLE-RADIUS=100;X-TITLE=Pfarre Gratkorn - Kirche:geo:
 47.1348105,15.349958499999957
END:VEVENT
BEGIN:VTIMEZONE
TZID:Europe/Vienna
X-LIC-LOCATION:Europe/Vienna
BEGIN:DAYLIGHT
DTSTART:20180325T030000
TZOFFSETFROM:+0100
TZOFFSETTO:+0200
TZNAME:CEST
END:DAYLIGHT
END:VTIMEZONE
END:VCALENDAR